BEGIN:VCALENDAR
VERSION:2.0
PRODID:-//OSU Student Life//iCal Library//EN
METHOD:PUBLISH
BEGIN:VEVENT
UID:20260424T104048Z-00090@osu.edu
DTSTAMP:20260424T104048Z
DTSTART:20260417T230000Z
DTEND:20260418T010000Z
SUMMARY:"Fan The Flame: Women Who Outwit, Outplay, Outlast"
DESCRIPTION:"Join OUAB in collaboration with the Survivor: Time and Change 
 organization forFan The Flame: Women Who Outwit, Outplay, and Outlast, feat
 uring some your favorite female contestants from the hit TV show, Survivor!
 \n\nKelley Wentworth is a three-time contestant on Survivor best known for 
 her underdog gameplay and strategic use of hidden immunity idols. She gaine
 d widespread recognition during Survivor: Cambodia, where she made a deep r
 un by winning key challenges and executing bold moves despite being targete
 d early.\n\nSandra Diaz-Twine is the first two-time winner of Survivor, hav
 ing won Pearl Islands and Heroes vs. Villains. Known for her &ldquo;anyone 
 but me&rdquo; strategy, she excels at social manipulation and adaptability,
  making her one of the most successful players in the show's history.\n\nCi
 rie Fields is widely regarded as one of the greatest Survivor players never
  to win, celebrated for her exceptional social and strategic gameplay. Acro
 ss multiple seasons, she demonstrated an ability to influence decisions beh
 ind the scenes while maintaining strong personal relationships with other c
 ontestants.\n\nParvati Shallow is a Survivor winner best known for her domi
 nance in Micronesia and strong showing in Heroes vs. Villains. She is recog
 nized for her charismatic social game and her role in forming powerful alli
 ances, particularly the iconic &ldquo;Black Widow Brigade.&rdquo;\n\nAttend
 ance is2 per BuckID, meaning at least one attendee must have a current and 
 valid BuckID for entry.\n"
LOCATION:Gateway Film Center
END:VEVENT
END:VCALENDAR
