BEGIN:VCALENDAR
VERSION:2.0
PRODID:-//OSU Student Life//iCal Library//EN
METHOD:PUBLISH
BEGIN:VEVENT
UID:20260421T195840Z-00059@osu.edu
DTSTAMP:20260421T195840Z
DTSTART:20260428T120000Z
DTEND:20260428T193000Z
SUMMARY:Reading Day Reset at Buckeye Commons
DESCRIPTION:"Reading Day Reset at Buckeye Commons\n\nReading Day Reset is a
 n all-day drop-in study experience designed to help you refocus, recharge, 
 and get finals-ready—without burning out.\n\nFeaturing the Reading Day Rhyt
 hm from 8 a.m.-3:30 p.m., the day moves in intentional cycles of 90 minutes
  of focused study followed by optional 30-minute themed break windows, givi
 ng your brain the structure to stay productive and rest to decompress. Take
  part in open study time, get creative with a craft break, relax with a vis
 it from therapy dogs, and re-energize with a surprise appearance from a cer
 tain campus celebrity to boost morale before finals begin.\n\nLooking for o
 ne more focused push before exams? Stay for the Pomodoro &amp; Pizza Study 
 Session from 3:30–5 p.m., where you’ll continue the rhythm using a science-
 backed productivity method of short study bursts and built-in breaks, along
  with free pizza in a supportive and energizing environment.\n\nBring your 
 materials, drop in when you can, and reset your pace for finals week at Buc
 keye Commons.\n\n"
LOCATION:"Alonso Family Room, Buckeye Commons"
END:VEVENT
END:VCALENDAR
