BEGIN:VCALENDAR
VERSION:2.0
PRODID:-//OSU Student Life//iCal Library//EN
METHOD:PUBLISH
BEGIN:VEVENT
UID:20260424T221400Z-00179@osu.edu
DTSTAMP:20260424T221400Z
DTSTART:20260420T150000Z
DTEND:20260420T180000Z
SUMMARY:Grad Cap Crafternoon
DESCRIPTION:"Calling all Spring '26 graduates! Come hang out, decorate your
  graduation cap, grab some free crafts and giveaways, and get a professiona
 l headshot taken at the spring Grad Cap Crafternoon!\n\nThis is your chance
  to get creative, celebrate your achievements, and prepare for the big day 
 and what's ahead.\n\nAdmission is 2 per BuckID, so bring a friend.\n"
LOCATION:"Performance Hall, Ohio Union"
END:VEVENT
END:VCALENDAR
