BEGIN:VCALENDAR
VERSION:2.0
PRODID:-//OSU Student Life//iCal Library//EN
METHOD:PUBLISH
BEGIN:VEVENT
UID:20260424T123408Z-00103@osu.edu
DTSTAMP:20260424T123408Z
DTSTART:20260429T150000Z
DTEND:20260429T190000Z
SUMMARY:Scarlet and Gray Send-Off
DESCRIPTION:"CongratulationsGraduates! On behalf of The Department of Athle
 tics, The Ohio State University Alumni Association and The Office of Studen
 t Life, we invite you to the 2026Scarlet and Gray Send-Off at Ohio Stadium.
  Join us for snacks,field levelphoto opportunity (you can bring your cap an
 d gown), self-guided tours of Ohio Stadiumand door prizes - all for FREE in
  celebration of your graduation from The Ohio State University.\n\n\n\nDate
 :April 29, 2026\n\nTime:11a-3p\n\nLocation: Ohio Stadium/NetJets Landing\n\
 n\n\n\n\nFor more information and to claim your FREE ticket, clickHerehttps
 ://new.express.adobe.com/webpage/wy59JGx3ha7XV\n\nLogin with your email tha
 t is on file with the Athletics Ticket Office and be sure to update your co
 ntact information to be entered into a drawing for prizes! Everyone must ha
 ve a ticket to attend. All tickets are mobile.Note: This event is only open
  to Spring 2026graduates.\n\n"
LOCATION:Ohio Stadium
END:VEVENT
END:VCALENDAR
