BEGIN:VCALENDAR
VERSION:2.0
PRODID:-//OSU Student Life//iCal Library//EN
METHOD:PUBLISH
BEGIN:VEVENT
UID:20260424T115329Z-00098@osu.edu
DTSTAMP:20260424T115329Z
DTSTART:20260820T130000Z
DTEND:20260820T200000Z
SUMMARY:Preview Day
DESCRIPTION:"Preview Day is an event held just before the academic year beg
 ins, designed for transfer, campus change and first-time commuter students.
  The event helps incoming students connect with campus resources and meet f
 ellow students.\n\nThe day includes a variety of presentations, activities 
 and a resource fair, along with plenty of chances to meet and interact with
  peers. Key topics covered include transportation logistics, strategies for
  getting involved in campus life and a littleOhio State trivia to kick thin
 gs off with some Buckeye spirit. Lunch and prizes for students are included
  too!\n\n"
LOCATION:"Archie M. Griffin Grand Ballroom, Ohio Union"
END:VEVENT
END:VCALENDAR
